Workbook
Name AMLOK: ' '!$D$40:$D$43
Name AOPTION: ' '!$B$40:$B$43
Name CONFIG: ' '!$B$5:$B$7
Name CTG: ' '!$N$7:$N$8
Name DAS: ' '!$J$19:$J$21
Name DIVISION: #REF!
Name DOPTION: ' '!$L$19:$L$30
Name DS: ' '!$N$40:$N$42
Name FINISH: ' '!$D$5:$D$11
Name KL: ' '!$F$40:$F$45
Name LB: ' '!$B$53:$B$58
Name LENGTH: ' '!$F$53:$F$86
Name LIFT: ' '!$H$40:$H$42
Name LOPTION: ' '!$D$53:$D$63
Name NP: ' '!$L$40:$L$42
Name PAINT: ' '!$F$5:$F$7
Name PAINTED: ' '!$D$8:$D$9
Name POPTION: ' '!$H$5:$H$8
Name PS: ' '!$J$40:$J$48
Name SD: ' '!$F$19:$F$21
Name SF: ' '!$B$19:$B$21
Name SHOES: ' '!$J$5:$J$6
Name SP: ' '!$L$5:$L$11
Name STRIKERS: ' '!$H$19:$H$32
Name TG: ' '!$N$5:$N$11
Name TM: ' '!$D$19:$D$20
Name XX: ' '!$L$19:$L$19

Sheet ORDER - QUOTE FORM
A1: VER. 2025.11.25
A2: =IF(F11="","QUOTE REQUEST","ORDER FORM") -> QUOTE REQUEST
A3: To get started, enter the number of doors required for this order and the form will begin populating. Once complete, please save this file under a new title and e-mail to 'info@amdor.com'. The form will not let you overwrite the blank form, you can use 'Save As' to rename and keep this configuration for future similar orders. Please only overwrite this blank form with your account information. **ANY CELLS THAT ARE YELLOW ARE MANDATORY FIELDS** IF YOU HAVE ANY QUESTIONS, PLEASE CONTACT OUR CUSTOMER CARE DEPARTMENT AT 1-877-462-6367 / info@amdor.com
A5: CONTACT DETAILS | F5: QTY OF DOORS | H5: SOLD TO ADDRESS | K5: SHIP TO ADDRESS | M5: 1
A6: Name: | E6: =IF(F6="","START HERE →","") -> START HERE → | H6: CONTACT | K6: =IF(H6="","",H6) -> CONTACT | M6: 2
A7: Phone #: | H7: COMPANY NAME | K7: =IF(H7="","",H7) -> COMPANY NAME | M7: 3
A8: Email: | F8: =IF(F6="","*ONCE A NUMBER IS ENTERED, THE FORM WILL BEGIN TO POPULATE*","") -> *ONCE A NUMBER IS ENTERED, THE FORM WILL BEGIN TO POPULATE* | H8: Address Line 1 | K8: =IF(H8="","",H8) -> Address Line 1 | M8: 4
H9: Address Line 2 | K9: =IF(H9="","",H9) -> Address Line 2 | M9: 5
A10: In-House Date: | C10: (DD/MM/YY) | F10: PO NUMBER | H10: City, State/Prov. | K10: =IF(H10="","",H10) -> City, State/Prov. | M10: 6
A11: End-User / Reference: | H11: ZIP / PC | K11: =IF(H11="","",H11) -> ZIP / PC | M11: 7
A12: Ship Via: | F12: *BY ENTERING A PO NUMBER, THE FORM WILL DEFAULT TO AN ORDER* | H12: Country | K12: =IF(H12="","",H12) -> Country | M12: 8
M13: 9
A14: PLEASE NOTE: This form will auto-populate based on the default options and but can be changed using the drop-down menu within each cell. | M14: 10
D15: REQUIRED DIMENSIONS **ALL DIMENSIONS MUST BE IN INCHES AND TO THE 1/16" OTHERWISE WILL BE ROUNDED DOWN TO THE NEAREST 1/16"** | I15: FINISH OPTIONS
A16: Comp. # | B16: Reference (Eg. L1, R1) | C16: Roll Configuration | D16: Body Header | E16: Opening Height | F16: Opening Width | G16: Compartment Height | H16: Compartment Depth | I16: Door Curtain Finish | J16: Paint Code | K16: Paint Finish | L16: Trim Paint Options | M16: IT REQUIRED?
A17: =IF($F$6>=1,CONCATENATE(M5,M17),"") | C17: =IF($F$6>=1,' '!B5,"") | I17: =IF($F$6>=1,' '!D5,"") | J17: =IF(OR(I17=' '!$D$8,I17=' '!$D$9,I17=' '!D10,I17=' '!D11),' '!$D$13,"") | K17: =IF(OR(I17=' '!$D$8,I17=' '!$D$9,I17=' '!$D$10,I17=' '!$D$11),' '!$F$5,"") | L17: =IF(I17="","",IF(OR(I17=' '!$D$5,I17=' '!$D$6,I17=' '!$D$7),"",IF(OR(I17=' '!$D$8,I17=' '!$D$10,I17=' '!$D$9,I17=' '!$D$11),' '!H5))) | M17: =IF(AND($F$6>=1,E17>1),IF(OR(F17>82.99,AND(E17>60.9,F17>68.9),AND(E17>58.9,F17>70.9),AND(E17>56.9,F17>72.9),AND(E17>54.9,F17>74.9),AND(E17>52.9,F17>76.9),AND(E17>50.9,F17>80.9)),", IT*",""),"")
A18: =IF($F$6>=2,CONCATENATE(M6,M18),"") | C18: =IF($F$6>=2,$C$17,"") | I18: =IF($F$6>=2,$I$17,"") | J18: =IF(OR(I18=' '!$D$8,I18=' '!$D$9,I18=' '!$D$10,I18=' '!$D$11),IF($J$17="",' '!$D$13,$J$17),"") | K18: =IF(OR(I18=' '!$D$8,I18=' '!$D$9,I18=' '!$D$10,I18=' '!$D$11),IF($K$17="",' '!$F$5,$K$17),"") | L18: =IF(I18="","",IF(I18=$I$17,$L$17,IF(OR(I18=' '!$D$5,I18=' '!$D$6,I18=' '!$D$7),"",IF(OR(I18=' '!$D$8,I18=' '!$D$10,I18=' '!$D$9,I18=' '!$D$11),' '!$H$5)))) | M18: =IF($F$6>=2,IF(OR(F18>82.99,AND(E18>60.9,F18>68.9),AND(E18>58.9,F18>70.9),AND(E18>56.9,F18>72.9),AND(E18>54.9,F18>74.9),AND(E18>52.9,F18>76.9),AND(E18>50.9,F18>80.9)),", IT*",""),"")
A19: =IF($F$6>=3,CONCATENATE(M7,M19),"") | C19: =IF($F$6>=3,$C$17,"") | I19: =IF($F$6>=3,$I$17,"") | J19: =IF(OR(I19=' '!$D$8,I19=' '!$D$9,I19=' '!$D$10,I19=' '!$D$11),IF($J$17="",' '!$D$13,$J$17),"") | K19: =IF(OR(I19=' '!$D$8,I19=' '!$D$9,I19=' '!$D$10,I19=' '!$D$11),IF($K$17="",' '!$F$5,$K$17),"") | L19: =IF(I19="","",IF(I19=$I$17,$L$17,IF(OR(I19=' '!$D$5,I19=' '!$D$6,I19=' '!$D$7),"",IF(OR(I19=' '!$D$8,I19=' '!$D$10,I19=' '!$D$9,I19=' '!$D$11),' '!$H$5)))) | M19: =IF($F$6>=3,IF(OR(F19>82.99,AND(E19>60.9,F19>68.9),AND(E19>58.9,F19>70.9),AND(E19>56.9,F19>72.9),AND(E19>54.9,F19>74.9),AND(E19>52.9,F19>76.9),AND(E19>50.9,F19>80.9)),", IT*",""),"")
A20: =IF($F$6>=4,CONCATENATE(M8,M20),"") | C20: =IF($F$6>=4,$C$17,"") | I20: =IF($F$6>=4,$I$17,"") | J20: =IF(OR(I20=' '!$D$8,I20=' '!$D$9,I20=' '!$D$10,I20=' '!$D$11),IF($J$17="",' '!$D$13,$J$17),"") | K20: =IF(OR(I20=' '!$D$8,I20=' '!$D$9,I20=' '!$D$10,I20=' '!$D$11),IF($K$17="",' '!$F$5,$K$17),"") | L20: =IF(I20="","",IF(I20=$I$17,$L$17,IF(OR(I20=' '!$D$5,I20=' '!$D$6,I20=' '!$D$7),"",IF(OR(I20=' '!$D$8,I20=' '!$D$10,I20=' '!$D$9,I20=' '!$D$11),' '!$H$5)))) | M20: =IF($F$6>=4,IF(OR(F20>82.99,AND(E20>60.9,F20>68.9),AND(E20>58.9,F20>70.9),AND(E20>56.9,F20>72.9),AND(E20>54.9,F20>74.9),AND(E20>52.9,F20>76.9),AND(E20>50.9,F20>80.9)),", IT*",""),"")
A21: =IF($F$6>=5,CONCATENATE(M9,M21),"") | C21: =IF($F$6>=5,$C$17,"") | I21: =IF($F$6>=5,$I$17,"") | J21: =IF(OR(I21=' '!$D$8,I21=' '!$D$9,I21=' '!$D$10,I21=' '!$D$11),IF($J$17="",' '!$D$13,$J$17),"") | K21: =IF(OR(I21=' '!$D$8,I21=' '!$D$9,I21=' '!$D$10,I21=' '!$D$11),IF($K$17="",' '!$F$5,$K$17),"") | L21: =IF(I21="","",IF(I21=$I$17,$L$17,IF(OR(I21=' '!$D$5,I21=' '!$D$6,I21=' '!$D$7),"",IF(OR(I21=' '!$D$8,I21=' '!$D$10,I21=' '!$D$9,I21=' '!$D$11),' '!$H$5)))) | M21: =IF($F$6>=5,IF(OR(F21>82.99,AND(E21>60.9,F21>68.9),AND(E21>58.9,F21>70.9),AND(E21>56.9,F21>72.9),AND(E21>54.9,F21>74.9),AND(E21>52.9,F21>76.9),AND(E21>50.9,F21>80.9)),", IT*",""),"")
A22: =IF($F$6>=6,CONCATENATE(M10,M22),"") | C22: =IF($F$6>=6,$C$17,"") | I22: =IF($F$6>=6,$I$17,"") | J22: =IF(OR(I22=' '!$D$8,I22=' '!$D$9,I22=' '!$D$10,I22=' '!$D$11),IF($J$17="",' '!$D$13,$J$17),"") | K22: =IF(OR(I22=' '!$D$8,I22=' '!$D$9,I22=' '!$D$10,I22=' '!$D$11),IF($K$17="",' '!$F$5,$K$17),"") | L22: =IF(I22="","",IF(I22=$I$17,$L$17,IF(OR(I22=' '!$D$5,I22=' '!$D$6,I22=' '!$D$7),"",IF(OR(I22=' '!$D$8,I22=' '!$D$10,I22=' '!$D$9,I22=' '!$D$11),' '!$H$5)))) | M22: =IF($F$6>=6,IF(OR(F22>82.99,AND(E22>60.9,F22>68.9),AND(E22>58.9,F22>70.9),AND(E22>56.9,F22>72.9),AND(E22>54.9,F22>74.9),AND(E22>52.9,F22>76.9),AND(E22>50.9,F22>80.9)),", IT*",""),"")
A23: =IF($F$6>=7,CONCATENATE(M11,M23),"") | C23: =IF($F$6>=7,$C$17,"") | I23: =IF($F$6>=7,$I$17,"") | J23: =IF(OR(I23=' '!$D$8,I23=' '!$D$9,I23=' '!$D$10,I23=' '!$D$11),IF($J$17="",' '!$D$13,$J$17),"") | K23: =IF(OR(I23=' '!$D$8,I23=' '!$D$9,I23=' '!$D$10,I23=' '!$D$11),IF($K$17="",' '!$F$5,$K$17),"") | L23: =IF(I23="","",IF(I23=$I$17,$L$17,IF(OR(I23=' '!$D$5,I23=' '!$D$6,I23=' '!$D$7),"",IF(OR(I23=' '!$D$8,I23=' '!$D$10,I23=' '!$D$9,I23=' '!$D$11),' '!$H$5)))) | M23: =IF($F$6>=7,IF(OR(F23>82.99,AND(E23>60.9,F23>68.9),AND(E23>58.9,F23>70.9),AND(E23>56.9,F23>72.9),AND(E23>54.9,F23>74.9),AND(E23>52.9,F23>76.9),AND(E23>50.9,F23>80.9)),", IT*",""),"")
A24: =IF($F$6>=8,CONCATENATE(M12,M24),"") | C24: =IF($F$6>=8,$C$17,"") | I24: =IF($F$6>=8,$I$17,"") | J24: =IF(OR(I24=' '!$D$8,I24=' '!$D$9,I24=' '!$D$10,I24=' '!$D$11),IF($J$17="",' '!$D$13,$J$17),"") | K24: =IF(OR(I24=' '!$D$8,I24=' '!$D$9,I24=' '!$D$10,I24=' '!$D$11),IF($K$17="",' '!$F$5,$K$17),"") | L24: =IF(I24="","",IF(I24=$I$17,$L$17,IF(OR(I24=' '!$D$5,I24=' '!$D$6,I24=' '!$D$7),"",IF(OR(I24=' '!$D$8,I24=' '!$D$10,I24=' '!$D$9,I24=' '!$D$11),' '!$H$5)))) | M24: =IF($F$6>=8,IF(OR(F24>82.99,AND(E24>60.9,F24>68.9),AND(E24>58.9,F24>70.9),AND(E24>56.9,F24>72.9),AND(E24>54.9,F24>74.9),AND(E24>52.9,F24>76.9),AND(E24>50.9,F24>80.9)),", IT*",""),"")
A25: =IF($F$6>=9,CONCATENATE(M13,M25),"") | C25: =IF($F$6>=9,$C$17,"") | I25: =IF($F$6>=9,$I$17,"") | J25: =IF(OR(I25=' '!$D$8,I25=' '!$D$9,I25=' '!$D$10,I25=' '!$D$11),IF($J$17="",' '!$D$13,$J$17),"") | K25: =IF(OR(I25=' '!$D$8,I25=' '!$D$9,I25=' '!$D$10,I25=' '!$D$11),IF($K$17="",' '!$F$5,$K$17),"") | L25: =IF(I25="","",IF(I25=$I$17,$L$17,IF(OR(I25=' '!$D$5,I25=' '!$D$6,I25=' '!$D$7),"",IF(OR(I25=' '!$D$8,I25=' '!$D$10,I25=' '!$D$9,I25=' '!$D$11),' '!$H$5)))) | M25: =IF($F$6>=9,IF(OR(F25>82.99,AND(E25>60.9,F25>68.9),AND(E25>58.9,F25>70.9),AND(E25>56.9,F25>72.9),AND(E25>54.9,F25>74.9),AND(E25>52.9,F25>76.9),AND(E25>50.9,F25>80.9)),", IT*",""),"")
A26: =IF($F$6>=10,CONCATENATE(M14,M26),"") | C26: =IF($F$6>=10,$C$17,"") | I26: =IF($F$6>=10,$I$17,"") | J26: =IF(OR(I26=' '!$D$8,I26=' '!$D$9,I26=' '!$D$10,I26=' '!$D$11),IF($J$17="",' '!$D$13,$J$17),"") | K26: =IF(OR(I26=' '!$D$8,I26=' '!$D$9,I26=' '!$D$10,I26=' '!$D$11),IF($K$17="",' '!$F$5,$K$17),"") | L26: =IF(I26="","",IF(I26=$I$17,$L$17,IF(OR(I26=' '!$D$5,I26=' '!$D$6,I26=' '!$D$7),"",IF(OR(I26=' '!$D$8,I26=' '!$D$10,I26=' '!$D$9,I26=' '!$D$11),' '!$H$5)))) | M26: =IF($F$6>=10,IF(OR(F26>82.99,AND(E26>60.9,F26>68.9),AND(E26>58.9,F26>70.9),AND(E26>56.9,F26>72.9),AND(E26>54.9,F26>74.9),AND(E26>52.9,F26>76.9),AND(E26>50.9,F26>80.9)),", IT*",""),"")
C28: CUSTOMIZATION | G28: SIDE FRAMES
A29: Comp. # | B29: Reference (Eg. L1, R1) | C29: Curtain End-Shoes | D29: Sill Plate | E29: Top Gutter | F29: CTG Length (Inches) | G29: Side Frames | H29: Track Miter | I29: Step Down Compartment | J29: Strikers / MECH Switches | K29: Magnetic Switch Options | L29: DAS Options
A30: =A17 | B30: =IF(B17="","",B17) | C30: =IF(I17="","",IF(OR(I17=' '!$D$8,I17=' '!$D$9,I17=' '!$D$10,I17=' '!$D$11),' '!$J$7,' '!$J$5)) | D30: =IF($F$6>=1,' '!$L$5,"") | E30: =IF($F$6>=1,' '!$N$5,"") | F30: =IF(E30="","",IF(OR(E30=' '!$N$7,E30=' '!$N$8),"SPECIFY REQUIRED LENGTH","N/A")) | G30: =IF($F$6>=1,' '!$B$20,"") | H30: =IF($F$6>=1,' '!$D$19,"") | I30: =IF($F$6>=1,' '!F19,"") | J30: =IF($F$6>=1,' '!H19,"") | K30: =IF($F$6>=1,' '!J19,"") | L30: =IF(OR(K30=' '!J19,K30=""),"",' '!L19)
A31: =A18 | B31: =IF(B18="","",B18) | C31: =IF(I18="","",IF(I18=' '!$D$5,' '!$J$5,$C$30)) | D31: =IF($F$6>=2,$D$30,"") | E31: =IF($F$6>=2,IF(OR($E$30=' '!$N$7,$E$30=' '!$N$8),' '!N13,E30),"") | F31: =IF(E31="","",IF(OR(E31=' '!$N$7,E31=' '!$N$8),"SPECIFY REQUIRED LENGTH","N/A")) | G31: =IF($F$6>=2,$G$30,"") | H31: =IF($F$6>=2,$H$30,"") | I31: =IF($F$6>=2,$I$30,"") | J31: =IF($F$6>=2,$J$30,"") | K31: =IF($F$6>=2,$K$30,"") | L31: =IF(K31="","",$L$30)
A32: =A19 | B32: =IF(B19="","",B19) | C32: =IF(I19="","",IF(I19=' '!$D$5,' '!$J$5,$C$30)) | D32: =IF($F$6>=3,$D$30,"") | E32: =IF($F$6>=3,IF(OR($E$30=' '!$N$7,$E$30=' '!$N$8),' '!N13,E30),"") | F32: =IF(E32="","",IF(OR(E32=' '!$N$7,E32=' '!$N$8),"SPECIFY REQUIRED LENGTH","N/A")) | G32: =IF($F$6>=3,$G$30,"") | H32: =IF($F$6>=3,$H$30,"") | I32: =IF($F$6>=3,$I$30,"") | J32: =IF($F$6>=3,$J$30,"") | K32: =IF($F$6>=3,$K$30,"") | L32: =IF(K32="","",$L$30)
A33: =A20 | B33: =IF(B20="","",B20) | C33: =IF(I20="","",IF(I20=' '!$D$5,' '!$J$5,$C$30)) | D33: =IF($F$6>=4,$D$30,"") | E33: =IF($F$6>=4,IF(OR($E$30=' '!$N$7,$E$30=' '!$N$8),' '!N13,E30),"") | F33: =IF(E33="","",IF(OR(E33=' '!$N$7,E33=' '!$N$8),"SPECIFY REQUIRED LENGTH","N/A")) | G33: =IF($F$6>=4,$G$30,"") | H33: =IF($F$6>=4,$H$30,"") | I33: =IF($F$6>=4,$I$30,"") | J33: =IF($F$6>=4,$J$30,"") | K33: =IF($F$6>=4,$K$30,"") | L33: =IF(K33="","",$L$30)
A34: =A21 | B34: =IF(B21="","",B21) | C34: =IF(I21="","",IF(I21=' '!$D$5,' '!$J$5,$C$30)) | D34: =IF($F$6>=5,$D$30,"") | E34: =IF($F$6>=5,IF(OR($E$30=' '!$N$7,$E$30=' '!$N$8),' '!N13,E30),"") | F34: =IF(E34="","",IF(OR(E34=' '!$N$7,E34=' '!$N$8),"SPECIFY REQUIRED LENGTH","N/A")) | G34: =IF($F$6>=5,$G$30,"") | H34: =IF($F$6>=5,$H$30,"") | I34: =IF($F$6>=5,$I$30,"") | J34: =IF($F$6>=5,$J$30,"") | K34: =IF($F$6>=5,$K$30,"") | L34: =IF(K34="","",$L$30)
A35: =A22 | B35: =IF(B22="","",B22) | C35: =IF(I22="","",IF(I22=' '!$D$5,' '!$J$5,$C$30)) | D35: =IF($F$6>=6,$D$30,"") | E35: =IF($F$6>=6,IF(OR($E$30=' '!$N$7,$E$30=' '!$N$8),' '!N13,E30),"") | F35: =IF(E35="","",IF(OR(E35=' '!$N$7,E35=' '!$N$8),"SPECIFY REQUIRED LENGTH","N/A")) | G35: =IF($F$6>=6,$G$30,"") | H35: =IF($F$6>=6,$H$30,"") | I35: =IF($F$6>=6,$I$30,"") | J35: =IF($F$6>=6,$J$30,"") | K35: =IF($F$6>=6,$K$30,"") | L35: =IF(K35="","",$L$30)
A36: =A23 | B36: =IF(B23="","",B23) | C36: =IF(I23="","",IF(I23=' '!$D$5,' '!$J$5,$C$30)) | D36: =IF($F$6>=7,$D$30,"") | E36: =IF($F$6>=7,IF(OR($E$30=' '!$N$7,$E$30=' '!$N$8),' '!N13,E30),"") | F36: =IF(E36="","",IF(OR(E36=' '!$N$7,E36=' '!$N$8),"SPECIFY REQUIRED LENGTH","N/A")) | G36: =IF($F$6>=7,$G$30,"") | H36: =IF($F$6>=7,$H$30,"") | I36: =IF($F$6>=7,$I$30,"") | J36: =IF($F$6>=7,$J$30,"") | K36: =IF($F$6>=7,$K$30,"") | L36: =IF(K36="","",$L$30)
A37: =A24 | B37: =IF(B24="","",B24) | C37: =IF(I24="","",IF(I24=' '!$D$5,' '!$J$5,$C$30)) | D37: =IF($F$6>=8,$D$30,"") | E37: =IF($F$6>=8,IF(OR($E$30=' '!$N$7,$E$30=' '!$N$8),' '!N13,E30),"") | F37: =IF(E37="","",IF(OR(E37=' '!$N$7,E37=' '!$N$8),"SPECIFY REQUIRED LENGTH","N/A")) | G37: =IF($F$6>=8,$G$30,"") | H37: =IF($F$6>=8,$H$30,"") | I37: =IF($F$6>=8,$I$30,"") | J37: =IF($F$6>=8,$J$30,"") | K37: =IF($F$6>=8,$K$30,"") | L37: =IF(K37="","",$L$30)
A38: =A25 | B38: =IF(B25="","",B25) | C38: =IF(I25="","",IF(I25=' '!$D$5,' '!$J$5,$C$30)) | D38: =IF($F$6>=9,$D$30,"") | E38: =IF($F$6>=9,IF(OR($E$30=' '!$N$7,$E$30=' '!$N$8),' '!N13,E30),"") | F38: =IF(E38="","",IF(OR(E38=' '!$N$7,E38=' '!$N$8),"SPECIFY REQUIRED LENGTH","N/A")) | G38: =IF($F$6>=9,$G$30,"") | H38: =IF($F$6>=9,$H$30,"") | I38: =IF($F$6>=9,$I$30,"") | J38: =IF($F$6>=9,$J$30,"") | K38: =IF($F$6>=9,$K$30,"") | L38: =IF(K38="","",$L$30)
A39: =A26 | B39: =IF(B26="","",B26) | C39: =IF(I26="","",IF(I26=' '!$D$5,' '!$J$5,$C$30)) | D39: =IF($F$6>=10,$D$30,"") | E39: =IF($F$6>=10,IF(OR($E$30=' '!$N$7,$E$30=' '!$N$8),' '!N13,E30),"") | F39: =IF(E39="","",IF(OR(E39=' '!$N$7,E39=' '!$N$8),"SPECIFY REQUIRED LENGTH","N/A")) | G39: =IF($F$6>=10,$G$30,"") | H39: =IF($F$6>=10,$H$30,"") | I39: =IF($F$6>=10,$I$30,"") | J39: =IF($F$6>=10,$J$30,"") | K39: =IF($F$6>=10,$K$30,"") | L39: =IF(K39="","",$L$30)
C41: DRIP SHIELD | D41: POWER LOCKING Optional Items Control Up To 12 Doors | F41: BOTTOM PANEL OPTIONS | J41: LIGHTING OPTIONS 24v Available Upon Request - Please Note In 'Comments' Section
A42: Comp. # | B42: Reference (Eg. L1, R1) | C42: Drip Shield | D42: AMLOK | E42: Options | F42: Manual Key Locking | G42: Lift-Bar | H42: Pull-Down Strap | I42: Name Plates | J42: Luma Bar 12v Integral Lights | K42: Light Options | L42: Light Length
A43: =A30 | B43: =IF(B30="","",B30) | C43: =IF(F$6="","",(IF(F17<18,' '!N$44,IF(AND(E17<=34,H17<10.5),' '!N$45,IF(AND(E17>34,E17<=53,H17<11.75),' '!N$46,IF(AND(E17>53,H17<12.375),' '!N$47,' '!N$40)))))) | D43: =IF($F$6>=1,' '!$D$40,"") | E43: =IF(OR(D43=' '!$D$40,D43=""),"",' '!$B$40) | F43: =IF($F$6>=1,IF(OR(D43=' '!$D$41,D43=' '!$D$42,D43=' '!$D$43),' '!$D$45,' '!$F$40),"") | G43: =IF($F$6>=1,' '!$H$40,"") | H43: =IF(F6>=1,' '!J40,"") | I43: =IF($F$6>=1,' '!$L$40,"") | J43: =IF($F$6>=1,' '!$B$53,"") | K43: =IF(AND($F$6>=1,J43<>' '!$B$53),' '!$D$53,"") | L43: =IF(OR(J43=' '!$B$53,J43=""),"",' '!$F$53)
A44: =A31 | B44: =IF(B31="","",B31) | C44: =IF(F$6<2,"",(IF(F18<18,' '!N$44,IF(AND(E18<=34,H18<10.5),' '!N$45,IF(AND(E18>34,E18<=53,H18<11.75),' '!N$46,IF(AND(E18>53,H18<12.375),' '!N$47,' '!N$40)))))) | D44: =IF($F$6>=2,$D$43,"") | E44: =IF(OR(D44=' '!$D$40,D44=""),"",' '!$B$40) | F44: =IF($F$6>=2,IF(OR(D44=' '!$D$41,D44=' '!$D$42,D44=' '!$D$43),IF($F$43=' '!$F$40,' '!$D$45,$F$43),' '!$F$40),"") | G44: =IF($F$6>=2,$G$43,"") | H44: =IF($F$6>=2,$H$43,"") | I44: =IF($F$6>=2,$I$43,"") | J44: =IF($F$6>=2,$J$43,"") | K44: =IF(AND($F$6>=2,J44<>' '!$B$53),' '!$D$53,"") | L44: =IF(OR(J44=' '!$B$53,J44=""),"",' '!$F$53)
A45: =A32 | B45: =IF(B32="","",B32) | C45: =IF(F$6<3,"",(IF(F19<18,' '!N$44,IF(AND(E19<=34,H19<10.5),' '!N$45,IF(AND(E19>34,E19<=53,H19<11.75),' '!N$46,IF(AND(E19>53,H19<12.375),' '!N$47,' '!N$40)))))) | D45: =IF($F$6>=3,$D$43,"") | E45: =IF(OR(D45=' '!$D$40,D45=""),"",' '!$B$40) | F45: =IF($F$6>=3,IF(OR(D45=' '!$D$41,D45=' '!$D$42,D45=' '!$D$43),IF($F$43=' '!$F$40,' '!$D$45,$F$43),' '!$F$40),"") | G45: =IF($F$6>=3,$G$43,"") | H45: =IF($F$6>=3,$H$43,"") | I45: =IF($F$6>=3,$I$43,"") | J45: =IF($F$6>=3,$J$43,"") | K45: =IF(AND($F$6>=3,J45<>' '!$B$53),' '!$D$53,"") | L45: =IF(OR(J45=' '!$B$53,J45=""),"",' '!$F$53)
A46: =A33 | B46: =IF(B33="","",B33) | C46: =IF(F$6 <4,"",(IF(F20<18,' '!N$44,IF(AND(E20<=34,H20<10.5),' '!N$45,IF(AND(E20>34,E20<=53,H20<11.75),' '!N$46,IF(AND(E20>53,H20<12.375),' '!N$47,' '!N$40)))))) | D46: =IF($F$6>=4,$D$43,"") | E46: =IF(OR(D46=' '!$D$40,D46=""),"",' '!$B$40) | F46: =IF($F$6>=4,IF(OR(D46=' '!$D$41,D46=' '!$D$42,D46=' '!$D$43),IF($F$43=' '!$F$40,' '!$D$45,$F$43),' '!$F$40),"") | G46: =IF($F$6>=4,$G$43,"") | H46: =IF($F$6>=4,$H$43,"") | I46: =IF($F$6>=4,$I$43,"") | J46: =IF($F$6>=4,$J$43,"") | K46: =IF(AND($F$6>=4,J46<>' '!$B$53),' '!$D$53,"") | L46: =IF(OR(J46=' '!$B$53,J46=""),"",' '!$F$53)
A47: =A34 | B47: =IF(B34="","",B34) | C47: =IF(F$6 <5,"",(IF(F21<18,' '!N$44,IF(AND(E21<=34,H21<10.5),' '!N$45,IF(AND(E21>34,E21<=53,H21<11.75),' '!N$46,IF(AND(E21>53,H21<12.375),' '!N$47,' '!N$40)))))) | D47: =IF($F$6>=5,$D$43,"") | E47: =IF(OR(D47=' '!$D$40,D47=""),"",' '!$B$40) | F47: =IF($F$6>=5,IF(OR(D47=' '!$D$41,D47=' '!$D$42,D47=' '!$D$43),IF($F$43=' '!$F$40,' '!$D$45,$F$43),' '!$F$40),"") | G47: =IF($F$6>=5,$G$43,"") | H47: =IF($F$6>=5,$H$43,"") | I47: =IF($F$6>=5,$I$43,"") | J47: =IF($F$6>=5,$J$43,"") | K47: =IF(AND($F$6>=5,J47<>' '!$B$53),' '!$D$53,"") | L47: =IF(OR(J47=' '!$B$53,J47=""),"",' '!$F$53)
A48: =A35 | B48: =IF(B35="","",B35) | C48: =IF(F$6 <6,"",(IF(F22<18,' '!N$44,IF(AND(E22<=34,H22<10.5),' '!N$45,IF(AND(E22>34,E22<=53,H22<11.75),' '!N$46,IF(AND(E22>53,H22<12.375),' '!N$47,' '!N$40)))))) | D48: =IF($F$6>=6,$D$43,"") | E48: =IF(OR(D48=' '!$D$40,D48=""),"",' '!$B$40) | F48: =IF($F$6>=6,IF(OR(D48=' '!$D$41,D48=' '!$D$42,D48=' '!$D$43),IF($F$43=' '!$F$40,' '!$D$45,$F$43),' '!$F$40),"") | G48: =IF($F$6>=6,$G$43,"") | H48: =IF($F$6>=6,$H$43,"") | I48: =IF($F$6>=6,$I$43,"") | J48: =IF($F$6>=6,$J$43,"") | K48: =IF(AND($F$6>=6,J48<>' '!$B$53),' '!$D$53,"") | L48: =IF(OR(J48=' '!$B$53,J48=""),"",' '!$F$53)
A49: =A36 | B49: =IF(B36="","",B36) | C49: =IF(F$7 <7,"",(IF(F23<18,' '!N$44,IF(AND(E23<=34,H23<10.5),' '!N$45,IF(AND(E23>34,E23<=53,H23<11.75),' '!N$46,IF(AND(E23>53,H23<12.375),' '!N$47,' '!N$40)))))) | D49: =IF($F$6>=7,$D$43,"") | E49: =IF(OR(D49=' '!$D$40,D49=""),"",' '!$B$40) | F49: =IF($F$6>=7,IF(OR(D49=' '!$D$41,D49=' '!$D$42,D49=' '!$D$43),IF($F$43=' '!$F$40,' '!$D$45,$F$43),' '!$F$40),"") | G49: =IF($F$6>=7,$G$43,"") | H49: =IF($F$6>=7,$H$43,"") | I49: =IF($F$6>=7,$I$43,"") | J49: =IF($F$6>=7,$J$43,"") | K49: =IF(AND($F$6>=7,J49<>' '!$B$53),' '!$D$53,"") | L49: =IF(OR(J49=' '!$B$53,J49=""),"",' '!$F$53)
A50: =A37 | B50: =IF(B37="","",B37) | C50: =IF(F$6 <8,"",(IF(F24<18,' '!N$44,IF(AND(E24<=34,H24<10.5),' '!N$45,IF(AND(E24>34,E24<=53,H24<11.75),' '!N$46,IF(AND(E24>53,H24<12.375),' '!N$47,' '!N$40)))))) | D50: =IF($F$6>=8,$D$43,"") | E50: =IF(OR(D50=' '!$D$40,D50=""),"",' '!$B$40) | F50: =IF($F$6>=8,IF(OR(D50=' '!$D$41,D50=' '!$D$42,D50=' '!$D$43),IF($F$43=' '!$F$40,' '!$D$45,$F$43),' '!$F$40),"") | G50: =IF($F$6>=8,$G$43,"") | H50: =IF($F$6>=8,$H$43,"") | I50: =IF($F$6>=8,$I$43,"") | J50: =IF($F$6>=8,$J$43,"") | K50: =IF(AND($F$6>=8,J50<>' '!$B$53),' '!$D$53,"") | L50: =IF(OR(J50=' '!$B$53,J50=""),"",' '!$F$53)
A51: =A38 | B51: =IF(B38="","",B38) | C51: =IF(F$6 <9,"",(IF(F25<18,' '!N$44,IF(AND(E25<=34,H25<10.5),' '!N$45,IF(AND(E25>34,E25<=53,H25<11.75),' '!N$46,IF(AND(E25>53,H25<12.375),' '!N$47,' '!N$40)))))) | D51: =IF($F$6>=9,$D$43,"") | E51: =IF(OR(D51=' '!$D$40,D51=""),"",' '!$B$40) | F51: =IF($F$6>=9,IF(OR(D51=' '!$D$41,D51=' '!$D$42,D51=' '!$D$43),IF($F$43=' '!$F$40,' '!$D$45,$F$43),' '!$F$40),"") | G51: =IF($F$6>=9,$G$43,"") | H51: =IF($F$6>=9,$H$43,"") | I51: =IF($F$6>=9,$I$43,"") | J51: =IF($F$6>=9,$J$43,"") | K51: =IF(AND($F$6>=9,J51<>' '!$B$53),' '!$D$53,"") | L51: =IF(OR(J51=' '!$B$53,J51=""),"",' '!$F$53)
A52: =A39 | B52: =IF(B39="","",B39) | C52: =IF(F$6 <10,"",(IF(F26<18,' '!N$44,IF(AND(E26<=34,H26<10.5),' '!N$45,IF(AND(E26>34,E26<=53,H26<11.75),' '!N$46,IF(AND(E26>53,H26<12.375),' '!N$47,' '!N$40)))))) | D52: =IF($F$6>=10,$D$43,"") | E52: =IF(OR(D52=' '!$D$40,D52=""),"",' '!$B$40) | F52: =IF($F$6>=10,IF(OR(D52=' '!$D$41,D52=' '!$D$42,D52=' '!$D$43),IF($F$43=' '!$F$40,' '!$D$45,$F$43),' '!$F$40),"") | G52: =IF($F$6>=10,$G$43,"") | H52: =IF($F$6>=10,$H$43,"") | I52: =IF($F$6>=10,$I$43,"") | J52: =IF($F$6>=10,$J$43,"") | K52: =IF(AND($F$6>=10,J52<>' '!$B$53),' '!$D$53,"") | L52: =IF(OR(J52=' '!$B$53,J52=""),"",' '!$F$53)
A54: STANDARD OPTIONS | D54: REFERENCE GUIDE | F54: NOTES AND COMMENTS | J54: Once complete, please save this Excel file as a new name and submit via e-mail to 'info@amdor.com'
A55: 1" Double Wall Box Slat w/Interslat Seal | D55: SF = Side Frame
A56: Bottom Panel w/Stainless Steel Lift-Bar | D56: TG = Top Gutter
A57: Side Frame (Track) w/Side Seals | D57: SA = Satin Anodized
A58: Pre-Punched (Slotted) Side Frames | D58: CTG = Continuous Top Gutter
A59: Balancer Mounting Plates | D59: DAS = Door Ajar Switch
A60: Pre-Tensioned Balancer | D60: BTM = Bottom Panel
A61: 2" Top Gutter w/Seal | D61: MAG = Magnetic
A62: Satin Anodized Finish (AA) | D62: MECH = Mechanical
A63: Rubber Bumpers | D63: IT* = Idler Tube Required

Sheet COMPONENTS
A1: SIDE FRAMES | J1: TRACK MITRE | O1: MAGNETIC DOOR AJAR SWITCHES
A10: SILL PLATES | J10: TRACK RELIEF
O12: MECHANICAL DOOR AJAR SWITCH
A16: TOP GUTTER | E16: DOOR FINISHES
E17: I
J20: PULL DOWN STRAPS
O23: AMLOK Power Door Locking
O24: (AVAILABLE WITH OPTIONAL REMOTE)
E25: Brushed, Anodized, Painted
E26: DRIP SHIELD | K26: Flex HD
L31: Standard Nylon

Sheet PARTS DIAGRAM

Sheet  
A1: ENTER THE TOTAL QUANTITY OF DOORS IN THE HIGHLIGHTED FIELD ABOVE TO BEGIN
C2: FINISH OPTIONS | I2: CUSTOMIZATION
D3: FINISH | F3: PAINT | H3: POPTION | J3: SHOES | L3: SP | N3: TG
A4: PN | B4: Roll Config | C4: PN | D4: Door Curtain Finish | E4: PN | F4: Paint Finish | G4: PN | H4: Paint Options | I4: PN | J4: Curtain End-Shoes | K4: PN | L4: Sill Plate | M4: PN | N4: Top Gutter
B5: Front Roll (D) | C5: SA- | D5: Anodized (D) | E5: PAINT-SIK | F5: Standard (D) | H5: None (D) | J5: Standard (D) | L5: NONE (D) | N5: SA-2520: 2" Standard (D)
A6: RR-1763-500 | B6: Rear Roll | C6: SA- | D6: Black Anodized, SA BTM | E6: PAINT-LUMI-SIK | F6: Lumicoat | G6: 248-500 | H6: Both - Sideframe & Top Gutter | I6: ES-0XX-500 | J6: ESS - Extended Slat Shoe (Black) | K6: SA-2540-500 | L6: SA-2540: Standard | M6: SA-2530-500 | N6: SA-2530: 6" Standard
A7: RR-1763-500 | B7: Tambour | C7: BA- | D7: Brushed Anodized, SA BTM | E7: PAINT-MET-SIK | F7: Metallic | G7: 248-500 | H7: Sideframe Only | J7: Standard (D), Consider ESS For Painted Doors | K7: SA-2540-500 | L7: SA-2540: Standard w/Tape | M7: CG-2520 | N7: CG-2520: 2" Continuous
C8: SA- | D8: Painted | G8: 248-500 | H8: Top Gutter Only | K8: SA-2541-500 | L8: SA-2541: Raised Stop | M8: CG-2530 | N8: CG-2530: 6" Continuous
C9: SA- | D9: Painted, SA BTM | G9: CG-2520-PAINT | H9: Painted 2" Continuous TG | K9: SA-2541-500 | L9: SA-2541: Raised Stop w/Tape | M9: XX-1500 | N9: Pre-Drill 2" Top Gutter
C10: SA- | D10: Painted - No Overspray | G10: CG-2530-PAINT | H10: Painted 6" Continuous TG | K10: SA-2542-500 | L10: SA-2542: Narrow | M10: XX-1510 | N10: Pre-Drill 6" Top Gutter
C11: SA- | D11: Painted, SA BTM - No Overspray | K11: SA-2542-500 | L11: SA-2542: Narrow w/Tape | N11: *NO TOP GUTTER*
G12: PAINT-SIK-AB- | H12: =CONCATENATE(D8," - ",F5) -> Painted - Standard (D)
D13: PAINT CODE REQUIRED | G13: PAINT-SIK-LUMI-AB- | H13: =CONCATENATE(D9," - ",F6) -> Painted, SA BTM - Lumicoat | N13: IF REQUIRED
A14: IT-1800-000-500 | B14: Idler Tube | C14: 247-500 | D14: No Overspray | G14: PAINT-SIK-MET-AB- | H14: =CONCATENATE(D9," - ",F7) -> Painted, SA BTM - Metallic
B16: SIDE FRAMES | I16: DAS
B17: SF | D17: TM | F17: SD | H17: STRIKERS | J17: DAS | L17: DOPTION
A18: PN | B18: Side Frames | C18: PN | D18: Track Miter | E18: PN | F18: Step Down Compartment | G18: PN | H18: Strikers | I18: PN | J18: Door Ajar Switch | K18: PN | L18: DAS Options
B19: SA-2512: Recessed | D19: NONE (D) | F19: NONE (D) | H19: Strikers Shipped Loose (D) | J19: NONE (D) | L19: Shipped Loose (D)
B20: SA-2513: Standard (D) | C20: XX-1550 | D20: 1/2" | E20: XX-1520 | F20: 1" | G20: XX-1565 | H20: Strikers Pre-Installed | I20: DS-5100-500 | J20: Positive Ground | K20: MS-6001M-500 | L20: Bottom Panel, Both Sides
A21: SA-2515-500 | B21: SA-2515: Wide | E21: XX-1525 | F21: 1 1/2" | G21: DS-1924-500 | H21: 12" Lead - LH/RH - Installed | I21: DS-5200-500 | J21: Negative Ground | K21: MS-6001M-500 | L21: Bottom Panel, LH Side
G22: DS-1925-500 | H22: 78" Lead - LH/RH - Installed | K22: MS-6001M-500 | L22: Bottom Panel, RH Side
G23: DS-1924-500 | H23: 12" Lead - LH - Installed | K23: XX-1585 | L23: Installed, Upper LH - Wires Up
G24: DS-1925-500 | H24: 78" Lead - LH - Installed | K24: XX-1585 | L24: Installed, Upper LH - Wires Down
G25: DS-1924-500 | H25: 12" Lead - RH - Installed | K25: XX-1585 | L25: Installed, Upper RH - Wires Up
G26: DS-1925-500 | H26: 78" Lead - RH - Installed | K26: XX-1585 | L26: Installed, Upper RH - Wires Down
G27: DS-1924-500 | H27: 12" Lead - LH/RH - Loose | K27: XX-1585 | L27: Installed, Lower LH - Wires Up
G28: DS-1925-500 | H28: 78" Lead - LH/RH - Loose | K28: XX-1585 | L28: Installed, Lower LH - Wires Down
G29: DS-1924-500 | H29: 12" Lead - LH - Loose | K29: XX-1585 | L29: Installed, Lower RH - Wires Up
G30: DS-1925-500 | H30: 78" Lead - LH - Loose | K30: XX-1585 | L30: Installed, Lower RH - Wires Down
G31: DS-1924-500 | H31: 12" Lead - RH - Loose
G32: DS-1925-500 | H32: 78" Lead - RH - Loose
G34: DS-1934-500 | H34: 3/4" SF - 12" LEAD
G35: DS-1935-500 | H35: 3/4" SF - 78" LEAD
A37: AMLOK | E37: BOTTOM PANEL OPTIONS | M37: DRIP SHIELD
B38: AOPTION | D38: AMLOK | F38: KL | H38: LIFT | J38: PS | L38: NP | N38: DS
A39: PN | B39: Options | C39: PN | D39: AMLOK | E39: PN | F39: Key Locking | G39: PN | H39: Lift-Bar | I39: PN | J39: Pull-Down Strap | K39: PN | L39: Name Plates | M39: PN | N39: Drip Shield
B40: Without Controller (D) | D40: NONE (D) | F40: NONE (D) | H40: Stainless Steel (D) | J40: NONE (D) | L40: Standard (D) | N40: NONE (D)
A41: EL0015-500 | B41: w/Controller - QTY 1 | C41: AY-EL-AMLOK2-500 | D41: Both Sides | E41: KL-9847-500 | F41: T001 | G41: CF-5405-500 | H41: Carbon Fibre | I41: PS-9355-500 | J41: Flex HD - RH Side (Installed) | K41: NP-94XX-500 | L41: Custom Standard Decals | M41: DT-1010 | N41: With Drainage Tube
A42: AMLOK-R | B42: w/Remotes - QTY 1 | C42: AY-EL-AMLOK1-500 | D42: LH Side Only | E42: KL-9846-500 | F42: 1250 | G42: PC-5405-500 | H42: Black Powder Coated | I42: PS-9355-500 | J42: Flex HD - LH Side (Installed) | K42: NP-94XX-500 | L42: Custom Domed Decals | M42: DT-1000 | N42: Without Drainage Tube
A43: =CONCATENATE(A41,", ",A42) -> EL0015-500, AMLOK-R | B43: w/(1) Controller & (1) Remote | C43: AY-EL-AMLOK1-500 | D43: RH Side Only | E43: KL-9851-500 | F43: CH545 | I43: PS-9350-12-500 | J43: 12" Nylon - RH Side (Installed)
E44: KL-9849-500 | F44: CH751 | I44: PS-9350-18-500 | J44: 18" Nylon - RH Side (Installed) | N44: N/A, Min. 18'' Opening Width Req'd
D45: Key Locking Req'd For AMLOK | E45: KL-9850-500 | F45: J236 | I45: PS-9355-500 | J45: Flex HD - Ship Loose - RH Side | N45: N/A, Min. 10.5'' Comp. Depth Req'd
I46: PS-9355-500 | J46: Flex HD - Ship Loose - LH Side | N46: N/A, Min. 11.75'' Comp. Depth Req'd
E47: XX-1546 | F47: KL Drill Option | I47: PS-9350-12-500 | J47: 12" Nylon - Ship Loose - RH Side | N47: N/A, Min. 12.375'' Comp. Depth Req'd
I48: PS-9350-18-500 | J48: 18" Nylon - Ship Loose - RH Side
A50: LIGHTING OPTIONS | E50: INTEGRAL SIZE | I50: FINISH OPTIONS
B51: LB | D51: LOPTION | F51: LENGTH
A52: PN | B52: Luma Bar Integral Lights | C52: PN | D52: Light Options | E52: PN | F52: Light Length | G52: OH MIN | H52: OH MAX | J52: Black Anodized | L52: Painted Curtain SA Bottom | N52: Metallic Curtain SA Bottom | P52: Lumicoat Curtain SA Bottom
B53: NONE (D) | D53: Ship Loose - Both Sides (D) | F53: Best Fit (D) | I53: BLKAN | J53: BLKAN04 | K53: PAINT-SIK-AB- | L53: PAINT-SIK-AB-04 | M53: PAINT-SIK-MET-AB- | N53: PAINT-SIK-MET-AB-04 | O53: PAINT-SIK-LUMI-AB- | P53: PAINT-SIK-LUMI-AB-04
A54: TL-9060- | B54: Red | D54: Ship Loose - LH Only - Wires Up | E54: 9 | F54: 8.625 | G54: 17.0625 | H54: 19 | I54: BLKAN | J54: BLKAN05 | K54: PAINT-SIK-AB- | L54: PAINT-SIK-AB-05 | M54: PAINT-SIK-MET-AB- | N54: PAINT-SIK-MET-AB-05 | O54: PAINT-SIK-LUMI-AB- | P54: PAINT-SIK-LUMI-AB-05
A55: TL-9050- | B55: White | D55: Ship Loose - LH Only - Wires Down | E55: 11 | F55: 10.625 | G55: 19.0625 | H55: 21 | I55: BLKAN | J55: BLKAN06 | K55: PAINT-SIK-AB- | L55: PAINT-SIK-AB-06 | M55: PAINT-SIK-MET-AB- | N55: PAINT-SIK-MET-AB-06 | O55: PAINT-SIK-LUMI-AB- | P55: PAINT-SIK-LUMI-AB-06
A56: TL-9070- | B56: Blue | D56: Ship Loose - RH Only - Wires Up | E56: 13 | F56: 12.6875 | G56: 21.0625 | H56: =E56+10 -> 23 | I56: BLKAN | J56: BLKAN07 | K56: PAINT-SIK-AB- | L56: PAINT-SIK-AB-07 | M56: PAINT-SIK-MET-AB- | N56: PAINT-SIK-MET-AB-07 | O56: PAINT-SIK-LUMI-AB- | P56: PAINT-SIK-LUMI-AB-07
A57: TL-9080- | B57: Red / White | D57: Ship Loose - RH Only - Wires Down | E57: 15 | F57: 14.6875 | G57: =H56+0.0625 -> 23.0625 | H57: =E57+10 -> 25 | I57: BLKAN | J57: BLKAN08 | K57: PAINT-SIK-AB- | L57: PAINT-SIK-AB-08 | M57: PAINT-SIK-MET-AB- | N57: PAINT-SIK-MET-AB-08 | O57: PAINT-SIK-LUMI-AB- | P57: PAINT-SIK-LUMI-AB-08
A58: TL-9085- | B58: Blue / White | C58: XX-1585 | D58: Installed - LH/RH, Wires Up | E58: 17 | F58: 16.75 | G58: =H57+0.0625 -> 25.0625 | H58: =E58+10 -> 27 | I58: BLKAN | J58: BLKAN09 | K58: PAINT-SIK-AB- | L58: PAINT-SIK-AB-09 | M58: PAINT-SIK-MET-AB- | N58: PAINT-SIK-MET-AB-09 | O58: PAINT-SIK-LUMI-AB- | P58: PAINT-SIK-LUMI-AB-09
C59: XX-1585 | D59: Installed - LH/RH, Wires Down | E59: 19 | F59: 18.75 | G59: =H58+0.0625 -> 27.0625 | H59: =E59+10 -> 29 | I59: BLKAN | J59: BLKAN10 | K59: PAINT-SIK-AB- | L59: PAINT-SIK-AB-10 | M59: PAINT-SIK-MET-AB- | N59: PAINT-SIK-MET-AB-10 | O59: PAINT-SIK-LUMI-AB- | P59: PAINT-SIK-LUMI-AB-10
C60: XX-1585 | D60: Installed - LH, Wires Up | E60: 21 | F60: 20.8125 | G60: =H59+0.0625 -> 29.0625 | H60: =E60+10 -> 31 | I60: BLKAN | J60: BLKAN11 | K60: PAINT-SIK-AB- | L60: PAINT-SIK-AB-11 | M60: PAINT-SIK-MET-AB- | N60: PAINT-SIK-MET-AB-11 | O60: PAINT-SIK-LUMI-AB- | P60: PAINT-SIK-LUMI-AB-11
C61: XX-1585 | D61: Installed - LH, Wires Down | E61: 23 | F61: 22.8125 | G61: =H60+0.0625 -> 31.0625 | H61: =E61+10 -> 33 | I61: BLKAN | J61: BLKAN12 | K61: PAINT-SIK-AB- | L61: PAINT-SIK-AB-12 | M61: PAINT-SIK-MET-AB- | N61: PAINT-SIK-MET-AB-12 | O61: PAINT-SIK-LUMI-AB- | P61: PAINT-SIK-LUMI-AB-12
C62: XX-1585 | D62: Installed - RH, Wires Up | E62: 25 | F62: 24.875 | G62: =H61+0.0625 -> 33.0625 | H62: =E62+10 -> 35 | I62: BLKAN | J62: BLKAN13 | K62: PAINT-SIK-AB- | L62: PAINT-SIK-AB-13 | M62: PAINT-SIK-MET-AB- | N62: PAINT-SIK-MET-AB-13 | O62: PAINT-SIK-LUMI-AB- | P62: PAINT-SIK-LUMI-AB-13
C63: XX-1585 | D63: Installed - RH, Wires Down | E63: 27 | F63: 26.875 | G63: =H62+0.0625 -> 35.0625 | H63: =E63+10 -> 37 | I63: BLKAN | J63: BLKAN14 | K63: PAINT-SIK-AB- | L63: PAINT-SIK-AB-14 | M63: PAINT-SIK-MET-AB- | N63: PAINT-SIK-MET-AB-14 | O63: PAINT-SIK-LUMI-AB- | P63: PAINT-SIK-LUMI-AB-14
E64: 29 | F64: 28.9375 | G64: =H63+0.0625 -> 37.0625 | H64: =E64+10 -> 39 | I64: BLKAN | J64: BLKAN15 | K64: PAINT-SIK-AB- | L64: PAINT-SIK-AB-15 | M64: PAINT-SIK-MET-AB- | N64: PAINT-SIK-MET-AB-15 | O64: PAINT-SIK-LUMI-AB- | P64: PAINT-SIK-LUMI-AB-15
E65: 31 | F65: 30.9375 | G65: =H64+0.0625 -> 39.0625 | H65: =E65+10 -> 41 | I65: BLKAN | J65: BLKAN16 | K65: PAINT-SIK-AB- | L65: PAINT-SIK-AB-16 | M65: PAINT-SIK-MET-AB- | N65: PAINT-SIK-MET-AB-16 | O65: PAINT-SIK-LUMI-AB- | P65: PAINT-SIK-LUMI-AB-16
E66: 33 | F66: 33 | G66: =H65+0.0625 -> 41.0625 | H66: =E66+10 -> 43 | I66: BLKAN | J66: BLKAN17 | K66: PAINT-SIK-AB- | L66: PAINT-SIK-AB-17 | M66: PAINT-SIK-MET-AB- | N66: PAINT-SIK-MET-AB-17 | O66: PAINT-SIK-LUMI-AB- | P66: PAINT-SIK-LUMI-AB-17
E67: 35 | F67: 35 | G67: =H66+0.0625 -> 43.0625 | H67: =E67+10 -> 45 | I67: BLKAN | J67: BLKAN18 | K67: PAINT-SIK-AB- | L67: PAINT-SIK-AB-18 | M67: PAINT-SIK-MET-AB- | N67: PAINT-SIK-MET-AB-18 | O67: PAINT-SIK-LUMI-AB- | P67: PAINT-SIK-LUMI-AB-18
E68: 37 | F68: 37.0625 | G68: =H67+0.0625 -> 45.0625 | H68: =E68+10 -> 47 | I68: BLKAN | J68: BLKAN19 | K68: PAINT-SIK-AB- | L68: PAINT-SIK-AB-19 | M68: PAINT-SIK-MET-AB- | N68: PAINT-SIK-MET-AB-19 | O68: PAINT-SIK-LUMI-AB- | P68: PAINT-SIK-LUMI-AB-19
E69: 39 | F69: 37.0625 | G69: =H68+0.0625 -> 47.0625 | H69: =E69+10 -> 49 | I69: BLKAN | J69: BLKAN20 | K69: PAINT-SIK-AB- | L69: PAINT-SIK-AB-20 | M69: PAINT-SIK-MET-AB- | N69: PAINT-SIK-MET-AB-20 | O69: PAINT-SIK-LUMI-AB- | P69: PAINT-SIK-LUMI-AB-20
E70: 41 | F70: 41.125 | G70: =H69+0.0625 -> 49.0625 | H70: =E70+10 -> 51 | I70: BLKAN | J70: BLKAN21 | K70: PAINT-SIK-AB- | L70: PAINT-SIK-AB-21 | M70: PAINT-SIK-MET-AB- | N70: PAINT-SIK-MET-AB-21 | O70: PAINT-SIK-LUMI-AB- | P70: PAINT-SIK-LUMI-AB-21
E71: 44 | F71: 43.125 | G71: =H70+0.0625 -> 51.0625 | H71: =E71+10 -> 54 | I71: BLKAN | J71: BLKAN22 | K71: PAINT-SIK-AB- | L71: PAINT-SIK-AB-22 | M71: PAINT-SIK-MET-AB- | N71: PAINT-SIK-MET-AB-22 | O71: PAINT-SIK-LUMI-AB- | P71: PAINT-SIK-LUMI-AB-22
E72: 46 | F72: 45.1875 | G72: =H71+0.0625 -> 54.0625 | H72: =E72+10 -> 56 | I72: BLKAN | J72: BLKAN23 | K72: PAINT-SIK-AB- | L72: PAINT-SIK-AB-23 | M72: PAINT-SIK-MET-AB- | N72: PAINT-SIK-MET-AB-23 | O72: PAINT-SIK-LUMI-AB- | P72: PAINT-SIK-LUMI-AB-23
E73: 48 | F73: 47.1875 | G73: =H72+0.0625 -> 56.0625 | H73: =E73+10 -> 58 | I73: BLKAN | J73: BLKAN24 | K73: PAINT-SIK-AB- | L73: PAINT-SIK-AB-24 | M73: PAINT-SIK-MET-AB- | N73: PAINT-SIK-MET-AB-24 | O73: PAINT-SIK-LUMI-AB- | P73: PAINT-SIK-LUMI-AB-24
E74: 50 | F74: 49.25 | G74: =H73+0.0625 -> 58.0625 | H74: =E74+10 -> 60 | I74: BLKAN | J74: BLKAN25 | K74: PAINT-SIK-AB- | L74: PAINT-SIK-AB-25 | M74: PAINT-SIK-MET-AB- | N74: PAINT-SIK-MET-AB-25 | O74: PAINT-SIK-LUMI-AB- | P74: PAINT-SIK-LUMI-AB-25
E75: 52 | F75: 51.25 | G75: =H74+0.0625 -> 60.0625 | H75: =E75+10 -> 62 | I75: BLKAN | J75: BLKAN26 | K75: PAINT-SIK-AB- | L75: PAINT-SIK-AB-26 | M75: PAINT-SIK-MET-AB- | N75: PAINT-SIK-MET-AB-26 | O75: PAINT-SIK-LUMI-AB- | P75: PAINT-SIK-LUMI-AB-26
... E86: 74 | F86: 73.625 | G86: =H85+0.0625 -> 82.0625 | H86: =E86+10 -> 84 | I86: BLKAN | J86: BLKAN37 | K86: PAINT-SIK-AB- | L86: PAINT-SIK-AB-37 | M86: PAINT-SIK-MET-AB- | N86: PAINT-SIK-MET-AB-37 | O86: PAINT-SIK-LUMI-AB- | P86: PAINT-SIK-LUMI-AB-37
E87: REVIEW | G87: =H86+0.0625 -> 84.0625 | H87: 96 | I87: BLKAN | J87: BLKAN38 | K87: PAINT-SIK-AB- | L87: PAINT-SIK-AB-38 | M87: PAINT-SIK-MET-AB- | N87: PAINT-SIK-MET-AB-38 | O87: PAINT-SIK-LUMI-AB- | P87: PAINT-SIK-LUMI-AB-38
I88: BLKAN | J88: BLKAN39 | K88: PAINT-SIK-AB- | L88: PAINT-SIK-AB-39 | M88: PAINT-SIK-MET-AB- | N88: PAINT-SIK-MET-AB-39 | O88: PAINT-SIK-LUMI-AB- | P88: PAINT-SIK-LUMI-AB-39
I89: BLKAN | J89: BLKAN40 | K89: PAINT-SIK-AB- | L89: PAINT-SIK-AB-40 | M89: PAINT-SIK-MET-AB- | N89: PAINT-SIK-MET-AB-40 | O89: PAINT-SIK-LUMI-AB- | P89: PAINT-SIK-LUMI-AB-40

Sheet -
A1: DOOR COIL CHART
A2: FRONT ROLL CONFIGURATION
A3: OPENING HEIGHT | D3: DOOR COIL DIAMETER | E3: BOTTOM OF DOOR COIL | F3: MIN. BODY HEADER | G3: BACK OF DOOR COIL | H3: MIN. COMP. DEPTH
A4: 12 | C4: 18.9375 | D4: 5 | E4: 5.25 | F4: 2 | G4: 8.625 | H4: 10.5
A5: 19 | B5: to | C5: 34.9375 | D5: 6.25 | E5: 6.5 | F5: 2.5 | G5: 9.875 | H5: 10.5
A6: 35 | B6: to | C6: 53.9375 | D6: 7.375 | E6: 7.75 | F6: 3 | G6: 11.0625 | H6: 12
A7: 54 | B7: to | C7: 75.9375 | D7: 8.625 | E7: 9 | F7: 3.75 | G7: 12.3125 | H7: 13
A8: 76 | B8: to | C8: 84.9375 | D8: 9 | E8: 9.75 | F8: 4.25 | G8: 13.25 | H8: 14
E9: Distance is valid only when the mounting plate is mounted flush to the underside of the compartment ceiling. | G9: Based on 1/4" thick wall of body header
A11: REAR ROLL CONFIGURATION
A12: OPENING HEIGHT | D12: DOOR COIL DIAMETER | E12: BOTTOM OF DOOR COIL | F12: MIN. BODY HEADER | G12: BACK OF DOOR COIL | H12: MIN. COMP. DEPTH
A13: ALL | F13: 2
A14: ALL DIMENSIONS ABOVE ARE IN INCHES
A16: HEADER DETAILS
A17: DOOR #1 | D17: HEADER | E17: OH | F17: Header OK? | G17: Min Header Export | H17: Header Code | I17: COMP DEPTH | J17: MIN DEPTH | K17: Header OK? | L17: Width OK?
A18: 1 | D18: ='ORDER - QUOTE FORM'!D17 -> 0 | E18: =MROUND('ORDER - QUOTE FORM'!E17,0.0625) -> 0 | F18: =IF('ORDER - QUOTE FORM'!D17="","", IF(AND('ORDER - QUOTE FORM'!C17<>"Front Roll (D)",D18=$F$13),"OK", IF(AND(E18>=$A$4,E18<=$C$4,D18>=$F$4),"OK", IF(AND(E18>=$A$5,E18<=$C$5,D18>=$F$5),"OK", IF(AND(E18>=$A$6,E18<=$C$6,D18>=$F$6),"OK", IF(AND(E18>=$A$7,E18<=$C$7,D18>=$F$7),"OK", IF(AND(E18>=$A$8,E18<=$C$8,D18>=$F$8),"OK","NO"))))))) | G18: =IF(AND(E18>$A$4,E18<$C$4),$F$4,IF(AND(E18>$A$5,E18<$C$5),$F$5,IF(AND(E18>$A$6,E18<$C$6),$F$6,IF(AND(E18>$A$7,E18<$C$7),$F$7,IF(AND(E18>$A$8,E18<$C$8),$F$8,IF(E18>C8,"REVIEW REQ'D","")))))) | H18: =IF(G18="REVIEW REQ'D","REVIEW REQ'D",IF(F18="OK","",CONCATENATE("**Min. ",G18,"'' Req'd**"))) -> **Min. '' Req'd** | I18: =IF('ORDER - QUOTE FORM'!H17="","",'ORDER - QUOTE FORM'!H17) | J18: =IF(AND(E18>=$A$4,E18<=$C$4),$H$4,IF(AND(E18>=$A$5,E18<=$C$5),$H$5,IF(AND(E18>=$A$6,E18<=$C$6),$H$6,IF(AND(E18>=$A$7,E18<=$C$7),$H$7,IF(AND(E18>=$A$8,E18<=$C$8),$H$8,""))))) | K18: =IF(G18>=D18,"OK","NO") -> OK | L18: =IF(I18>=J18,"OK",CONCATENATE("MIN ",J18,"'' REQ'D")) -> OK
A19: 2 | D19: ='ORDER - QUOTE FORM'!D18 -> 0 | E19: =MROUND('ORDER - QUOTE FORM'!E18,0.0625) -> 0 | F19: =IF('ORDER - QUOTE FORM'!D18="","", IF(AND('ORDER - QUOTE FORM'!C18<>"Front Roll (D)",D19=$F$13),"OK", IF(AND(E19>=$A$4,E19<=$C$4,D19>=$F$4),"OK", IF(AND(E19>=$A$5,E19<=$C$5,D19>=$F$5),"OK", IF(AND(E19>=$A$6,E19<=$C$6,D19>=$F$6),"OK", IF(AND(E19>=$A$7,E19<=$C$7,D19>=$F$7),"OK", IF(AND(E19>=$A$8,E19<=$C$8,D19>=$F$8),"OK","NO"))))))) | G19: =IF(AND(E19>$A$4,E19<$C$4),$F$4,IF(AND(E19>$A$5,E19<$C$5),$F$5,IF(AND(E19>$A$6,E19<$C$6),$F$6,IF(AND(E19>$A$7,E19<$C$7),$F$7,IF(AND(E19>$A$8,E19<$C$8),$F$8,IF(E19>C9,"ENGINEERING REVIEW REQ'D","")))))) | I19: =IF('ORDER - QUOTE FORM'!H18="","",'ORDER - QUOTE FORM'!H18) | J19: =IF(AND(E19>=$A$4,E19<=$C$4),$H$4,IF(AND(E19>=$A$5,E19<=$C$5),$H$5,IF(AND(E19>=$A$6,E19<=$C$6),$H$6,IF(AND(E19>=$A$7,E19<=$C$7),$H$7,IF(AND(E19>=$A$8,E19<=$C$8),$H$8,""))))) | K19: =IF(G19>=D19,"OK","NO") -> OK | L19: =IF(I19>=J19,"OK",CONCATENATE("MIN ",J19,"'' REQ'D")) -> OK
A20: 3 | D20: ='ORDER - QUOTE FORM'!D19 -> 0 | E20: =MROUND('ORDER - QUOTE FORM'!E19,0.0625) -> 0 | F20: =IF('ORDER - QUOTE FORM'!D19="","", IF(AND('ORDER - QUOTE FORM'!C19<>"Front Roll (D)",D20=$F$13),"OK", IF(AND(E20>=$A$4,E20<=$C$4,D20>=$F$4),"OK", IF(AND(E20>=$A$5,E20<=$C$5,D20>=$F$5),"OK", IF(AND(E20>=$A$6,E20<=$C$6,D20>=$F$6),"OK", IF(AND(E20>=$A$7,E20<=$C$7,D20>=$F$7),"OK", IF(AND(E20>=$A$8,E20<=$C$8,D20>=$F$8),"OK","NO"))))))) | G20: =IF(AND(E20>$A$4,E20<$C$4),$F$4,IF(AND(E20>$A$5,E20<$C$5),$F$5,IF(AND(E20>$A$6,E20<$C$6),$F$6,IF(AND(E20>$A$7,E20<$C$7),$F$7,IF(AND(E20>$A$8,E20<$C$8),$F$8,IF(E20>C10,"ENGINEERING REVIEW REQ'D","")))))) | I20: =IF('ORDER - QUOTE FORM'!H19="","",'ORDER - QUOTE FORM'!H19) | J20: =IF(AND(E20>=$A$4,E20<=$C$4),$H$4,IF(AND(E20>=$A$5,E20<=$C$5),$H$5,IF(AND(E20>=$A$6,E20<=$C$6),$H$6,IF(AND(E20>=$A$7,E20<=$C$7),$H$7,IF(AND(E20>=$A$8,E20<=$C$8),$H$8,""))))) | K20: =IF(G20>=D20,"OK","NO") -> OK | L20: =IF(I20>=J20,"OK",CONCATENATE("MIN ",J20,"'' REQ'D")) -> OK
A21: 4 | D21: ='ORDER - QUOTE FORM'!D20 -> 0 | E21: =MROUND('ORDER - QUOTE FORM'!E20,0.0625) -> 0 | F21: =IF('ORDER - QUOTE FORM'!D20="","", IF(AND('ORDER - QUOTE FORM'!C20<>"Front Roll (D)",D21=$F$13),"OK", IF(AND(E21>=$A$4,E21<=$C$4,D21>=$F$4),"OK", IF(AND(E21>=$A$5,E21<=$C$5,D21>=$F$5),"OK", IF(AND(E21>=$A$6,E21<=$C$6,D21>=$F$6),"OK", IF(AND(E21>=$A$7,E21<=$C$7,D21>=$F$7),"OK", IF(AND(E21>=$A$8,E21<=$C$8,D21>=$F$8),"OK","NO"))))))) | G21: =IF(AND(E21>$A$4,E21<$C$4),$F$4,IF(AND(E21>$A$5,E21<$C$5),$F$5,IF(AND(E21>$A$6,E21<$C$6),$F$6,IF(AND(E21>$A$7,E21<$C$7),$F$7,IF(AND(E21>$A$8,E21<$C$8),$F$8,IF(E21>C11,"ENGINEERING REVIEW REQ'D","")))))) | I21: =IF('ORDER - QUOTE FORM'!H20="","",'ORDER - QUOTE FORM'!H20) | J21: =IF(AND(E21>=$A$4,E21<=$C$4),$H$4,IF(AND(E21>=$A$5,E21<=$C$5),$H$5,IF(AND(E21>=$A$6,E21<=$C$6),$H$6,IF(AND(E21>=$A$7,E21<=$C$7),$H$7,IF(AND(E21>=$A$8,E21<=$C$8),$H$8,""))))) | K21: =IF(G21>=D21,"OK","NO") -> OK | L21: =IF(I21>=J21,"OK",CONCATENATE("MIN ",J21,"'' REQ'D")) -> OK
A22: 5 | D22: ='ORDER - QUOTE FORM'!D21 -> 0 | E22: =MROUND('ORDER - QUOTE FORM'!E21,0.0625) -> 0 | F22: =IF('ORDER - QUOTE FORM'!D21="","", IF(AND('ORDER - QUOTE FORM'!C21<>"Front Roll (D)",D22=$F$13),"OK", IF(AND(E22>=$A$4,E22<=$C$4,D22>=$F$4),"OK", IF(AND(E22>=$A$5,E22<=$C$5,D22>=$F$5),"OK", IF(AND(E22>=$A$6,E22<=$C$6,D22>=$F$6),"OK", IF(AND(E22>=$A$7,E22<=$C$7,D22>=$F$7),"OK", IF(AND(E22>=$A$8,E22<=$C$8,D22>=$F$8),"OK","NO"))))))) | G22: =IF(AND(E22>$A$4,E22<$C$4),$F$4,IF(AND(E22>$A$5,E22<$C$5),$F$5,IF(AND(E22>$A$6,E22<$C$6),$F$6,IF(AND(E22>$A$7,E22<$C$7),$F$7,IF(AND(E22>$A$8,E22<$C$8),$F$8,IF(E22>C12,"ENGINEERING REVIEW REQ'D","")))))) | I22: =IF('ORDER - QUOTE FORM'!H21="","",'ORDER - QUOTE FORM'!H21) | J22: =IF(AND(E22>=$A$4,E22<=$C$4),$H$4,IF(AND(E22>=$A$5,E22<=$C$5),$H$5,IF(AND(E22>=$A$6,E22<=$C$6),$H$6,IF(AND(E22>=$A$7,E22<=$C$7),$H$7,IF(AND(E22>=$A$8,E22<=$C$8),$H$8,""))))) | K22: =IF(G22>=D22,"OK","NO") -> OK | L22: =IF(I22>=J22,"OK",CONCATENATE("MIN ",J22,"'' REQ'D")) -> OK
A23: 6 | D23: ='ORDER - QUOTE FORM'!D22 -> 0 | E23: =MROUND('ORDER - QUOTE FORM'!E22,0.0625) -> 0 | F23: =IF('ORDER - QUOTE FORM'!D22="","", IF(AND('ORDER - QUOTE FORM'!C22<>"Front Roll (D)",D23=$F$13),"OK", IF(AND(E23>=$A$4,E23<=$C$4,D23>=$F$4),"OK", IF(AND(E23>=$A$5,E23<=$C$5,D23>=$F$5),"OK", IF(AND(E23>=$A$6,E23<=$C$6,D23>=$F$6),"OK", IF(AND(E23>=$A$7,E23<=$C$7,D23>=$F$7),"OK", IF(AND(E23>=$A$8,E23<=$C$8,D23>=$F$8),"OK","NO"))))))) | G23: =IF(AND(E23>$A$4,E23<$C$4),$F$4,IF(AND(E23>$A$5,E23<$C$5),$F$5,IF(AND(E23>$A$6,E23<$C$6),$F$6,IF(AND(E23>$A$7,E23<$C$7),$F$7,IF(AND(E23>$A$8,E23<$C$8),$F$8,IF(E23>C13,"ENGINEERING REVIEW REQ'D","")))))) | I23: =IF('ORDER - QUOTE FORM'!H22="","",'ORDER - QUOTE FORM'!H22) | J23: =IF(AND(E23>=$A$4,E23<=$C$4),$H$4,IF(AND(E23>=$A$5,E23<=$C$5),$H$5,IF(AND(E23>=$A$6,E23<=$C$6),$H$6,IF(AND(E23>=$A$7,E23<=$C$7),$H$7,IF(AND(E23>=$A$8,E23<=$C$8),$H$8,""))))) | K23: =IF(G23>=D23,"OK","NO") -> OK | L23: =IF(I23>=J23,"OK",CONCATENATE("MIN ",J23,"'' REQ'D")) -> OK
A24: 7 | D24: ='ORDER - QUOTE FORM'!D23 -> 0 | E24: =MROUND('ORDER - QUOTE FORM'!E23,0.0625) -> 0 | F24: =IF('ORDER - QUOTE FORM'!D23="","", IF(AND('ORDER - QUOTE FORM'!C23<>"Front Roll (D)",D24=$F$13),"OK", IF(AND(E24>=$A$4,E24<=$C$4,D24>=$F$4),"OK", IF(AND(E24>=$A$5,E24<=$C$5,D24>=$F$5),"OK", IF(AND(E24>=$A$6,E24<=$C$6,D24>=$F$6),"OK", IF(AND(E24>=$A$7,E24<=$C$7,D24>=$F$7),"OK", IF(AND(E24>=$A$8,E24<=$C$8,D24>=$F$8),"OK","NO"))))))) | G24: =IF(AND(E24>$A$4,E24<$C$4),$F$4,IF(AND(E24>$A$5,E24<$C$5),$F$5,IF(AND(E24>$A$6,E24<$C$6),$F$6,IF(AND(E24>$A$7,E24<$C$7),$F$7,IF(AND(E24>$A$8,E24<$C$8),$F$8,IF(E24>C14,"ENGINEERING REVIEW REQ'D","")))))) | I24: =IF('ORDER - QUOTE FORM'!H23="","",'ORDER - QUOTE FORM'!H23) | J24: =IF(AND(E24>=$A$4,E24<=$C$4),$H$4,IF(AND(E24>=$A$5,E24<=$C$5),$H$5,IF(AND(E24>=$A$6,E24<=$C$6),$H$6,IF(AND(E24>=$A$7,E24<=$C$7),$H$7,IF(AND(E24>=$A$8,E24<=$C$8),$H$8,""))))) | K24: =IF(G24>=D24,"OK","NO") -> OK | L24: =IF(I24>=J24,"OK",CONCATENATE("MIN ",J24,"'' REQ'D")) -> OK
A25: 8 | D25: ='ORDER - QUOTE FORM'!D24 -> 0 | E25: =MROUND('ORDER - QUOTE FORM'!E24,0.0625) -> 0 | F25: =IF('ORDER - QUOTE FORM'!D24="","", IF(AND('ORDER - QUOTE FORM'!C24<>"Front Roll (D)",D25=$F$13),"OK", IF(AND(E25>=$A$4,E25<=$C$4,D25>=$F$4),"OK", IF(AND(E25>=$A$5,E25<=$C$5,D25>=$F$5),"OK", IF(AND(E25>=$A$6,E25<=$C$6,D25>=$F$6),"OK", IF(AND(E25>=$A$7,E25<=$C$7,D25>=$F$7),"OK", IF(AND(E25>=$A$8,E25<=$C$8,D25>=$F$8),"OK","NO"))))))) | G25: =IF(AND(E25>$A$4,E25<$C$4),$F$4,IF(AND(E25>$A$5,E25<$C$5),$F$5,IF(AND(E25>$A$6,E25<$C$6),$F$6,IF(AND(E25>$A$7,E25<$C$7),$F$7,IF(AND(E25>$A$8,E25<$C$8),$F$8,IF(E25>C15,"ENGINEERING REVIEW REQ'D","")))))) | I25: =IF('ORDER - QUOTE FORM'!H24="","",'ORDER - QUOTE FORM'!H24) | J25: =IF(AND(E25>=$A$4,E25<=$C$4),$H$4,IF(AND(E25>=$A$5,E25<=$C$5),$H$5,IF(AND(E25>=$A$6,E25<=$C$6),$H$6,IF(AND(E25>=$A$7,E25<=$C$7),$H$7,IF(AND(E25>=$A$8,E25<=$C$8),$H$8,""))))) | K25: =IF(G25>=D25,"OK","NO") -> OK | L25: =IF(I25>=J25,"OK",CONCATENATE("MIN ",J25,"'' REQ'D")) -> OK
A26: 9 | D26: ='ORDER - QUOTE FORM'!D25 -> 0 | E26: =MROUND('ORDER - QUOTE FORM'!E25,0.0625) -> 0 | F26: =IF('ORDER - QUOTE FORM'!D25="","", IF(AND('ORDER - QUOTE FORM'!C25<>"Front Roll (D)",D26=$F$13),"OK", IF(AND(E26>=$A$4,E26<=$C$4,D26>=$F$4),"OK", IF(AND(E26>=$A$5,E26<=$C$5,D26>=$F$5),"OK", IF(AND(E26>=$A$6,E26<=$C$6,D26>=$F$6),"OK", IF(AND(E26>=$A$7,E26<=$C$7,D26>=$F$7),"OK", IF(AND(E26>=$A$8,E26<=$C$8,D26>=$F$8),"OK","NO"))))))) | G26: =IF(AND(E26>$A$4,E26<$C$4),$F$4,IF(AND(E26>$A$5,E26<$C$5),$F$5,IF(AND(E26>$A$6,E26<$C$6),$F$6,IF(AND(E26>$A$7,E26<$C$7),$F$7,IF(AND(E26>$A$8,E26<$C$8),$F$8,IF(E26>C16,"ENGINEERING REVIEW REQ'D","")))))) | I26: =IF('ORDER - QUOTE FORM'!H25="","",'ORDER - QUOTE FORM'!H25) | J26: =IF(AND(E26>=$A$4,E26<=$C$4),$H$4,IF(AND(E26>=$A$5,E26<=$C$5),$H$5,IF(AND(E26>=$A$6,E26<=$C$6),$H$6,IF(AND(E26>=$A$7,E26<=$C$7),$H$7,IF(AND(E26>=$A$8,E26<=$C$8),$H$8,""))))) | K26: =IF(G26>=D26,"OK","NO") -> OK | L26: =IF(I26>=J26,"OK",CONCATENATE("MIN ",J26,"'' REQ'D")) -> OK
A27: 10 | D27: ='ORDER - QUOTE FORM'!D26 -> 0 | E27: =MROUND('ORDER - QUOTE FORM'!E26,0.0625) -> 0 | F27: =IF('ORDER - QUOTE FORM'!D26="","", IF(AND('ORDER - QUOTE FORM'!C26<>"Front Roll (D)",D27=$F$13),"OK", IF(AND(E27>=$A$4,E27<=$C$4,D27>=$F$4),"OK", IF(AND(E27>=$A$5,E27<=$C$5,D27>=$F$5),"OK", IF(AND(E27>=$A$6,E27<=$C$6,D27>=$F$6),"OK", IF(AND(E27>=$A$7,E27<=$C$7,D27>=$F$7),"OK", IF(AND(E27>=$A$8,E27<=$C$8,D27>=$F$8),"OK","NO"))))))) | G27: =IF(AND(E27>$A$4,E27<$C$4),$F$4,IF(AND(E27>$A$5,E27<$C$5),$F$5,IF(AND(E27>$A$6,E27<$C$6),$F$6,IF(AND(E27>$A$7,E27<$C$7),$F$7,IF(AND(E27>$A$8,E27<$C$8),$F$8,IF(E27>A17,"ENGINEERING REVIEW REQ'D","")))))) | I27: =IF('ORDER - QUOTE FORM'!H26="","",'ORDER - QUOTE FORM'!H26) | J27: =IF(AND(E27>=$A$4,E27<=$C$4),$H$4,IF(AND(E27>=$A$5,E27<=$C$5),$H$5,IF(AND(E27>=$A$6,E27<=$C$6),$H$6,IF(AND(E27>=$A$7,E27<=$C$7),$H$7,IF(AND(E27>=$A$8,E27<=$C$8),$H$8,""))))) | K27: =IF(G27>=D27,"OK","NO") -> OK | L27: =IF(I27>=J27,"OK",CONCATENATE("MIN ",J27,"'' REQ'D")) -> OK
A31: DOOR #1
A32: 1
A33: 2
A34: 3
A35: 4
A36: 5
A37: 6
A38: 7
A39: 8
A40: 9
A41: 10
